BEGIN:VCALENDAR
VERSION:2.0
PRODID:-//mWEB//NONSGML mWEB//NB
URL:https://www.beroa.no/kalender/ics
X-WR-CALNAME:Berøa Langåker
REFRESH-INTERVAL;VALUE=DURATION:PT6H
X-PUBLISHED-TTL:PT6H    
CALSCALE:GREGORIAN
BEGIN:VEVENT
UID:beroa.no-3317
DTSTAMP:20260420T144120Z
DTSTART:20251126T183000Z
DTEND:20251126T200000Z
URL:https://www.beroa.no/kalender/2025/11/26/mannsmote-ivan-underhaug-blir-med/3317/
CREATED:20251001T173659Z
LAST-MODIFIED:20251028T173634Z
SUMMARY:Mannsmøte. Ivan Underhaug blir med.
DESCRIPTION:\n\nhttps://www.beroa.no/kalender/2025/11/26/mannsmote-ivan-underhaug-blir-med/3317/
END:VEVENT

END:VCALENDAR