BEGIN:VCALENDAR
VERSION:2.0
PRODID:-//mWEB//NONSGML mWEB//NB
URL:https://www.beroa.no/kalender/ics
X-WR-CALNAME:Berøa Langåker
REFRESH-INTERVAL;VALUE=DURATION:PT6H
X-PUBLISHED-TTL:PT6H    
CALSCALE:GREGORIAN
BEGIN:VEVENT
UID:beroa.no-3278
DTSTAMP:20260420T103033Z
DTSTART:20251129T090000Z
DTEND:20251129T103000Z
URL:https://www.beroa.no/kalender/2025/11/29/10-13-klubben-juleverksted/3278/
CREATED:20250822T061629Z
LAST-MODIFIED:20250822T061629Z
SUMMARY:10-13 klubben Juleverksted
DESCRIPTION:\n\nhttps://www.beroa.no/kalender/2025/11/29/10-13-klubben-juleverksted/3278/
END:VEVENT

END:VCALENDAR