BEGIN:VCALENDAR
VERSION:2.0
PRODID:-//mWEB//NONSGML mWEB//NB
URL:https://www.beroa.no/kalender/ics
X-WR-CALNAME:Berøa Langåker
REFRESH-INTERVAL;VALUE=DURATION:PT6H
X-PUBLISHED-TTL:PT6H    
CALSCALE:GREGORIAN
BEGIN:VEVENT
UID:beroa.no-3318
DTSTAMP:20260420T103109Z
DTSTART:20251130T183000Z
DTEND:20251130T200000Z
URL:https://www.beroa.no/kalender/2025/11/30/mote-tale-av-david-a-sjoen-tema-ventetid/3318/
CREATED:20251025T102844Z
LAST-MODIFIED:20251129T111157Z
SUMMARY:Møte. Tale av David A Sjøen. Tema: "Ventetid"
DESCRIPTION:\n\nhttps://www.beroa.no/kalender/2025/11/30/mote-tale-av-david-a-sjoen-tema-ventetid/3318/
END:VEVENT

END:VCALENDAR