BEGIN:VCALENDAR
VERSION:2.0
PRODID:-//mWEB//NONSGML mWEB//NB
URL:https://www.beroa.no/kalender/ics
X-WR-CALNAME:Berøa Langåker
REFRESH-INTERVAL;VALUE=DURATION:PT6H
X-PUBLISHED-TTL:PT6H    
CALSCALE:GREGORIAN
BEGIN:VEVENT
UID:beroa.no-3347
DTSTAMP:20260423T101726Z
DTSTART:20251205T190000Z
DTEND:20251205T203000Z
URL:https://www.beroa.no/kalender/2025/12/05/kaffikveld-med-julequiz/3347/
CREATED:20251108T111100Z
LAST-MODIFIED:20251108T111101Z
SUMMARY:Kaffikveld med julequiz
DESCRIPTION:\n\nhttps://www.beroa.no/kalender/2025/12/05/kaffikveld-med-julequiz/3347/
END:VEVENT

END:VCALENDAR