BEGIN:VCALENDAR
VERSION:2.0
PRODID:-//mWEB//NONSGML mWEB//NB
URL:https://www.beroa.no/kalender/ics
X-WR-CALNAME:Berøa Langåker
REFRESH-INTERVAL;VALUE=DURATION:PT6H
X-PUBLISHED-TTL:PT6H    
CALSCALE:GREGORIAN
BEGIN:VEVENT
UID:beroa.no-3383
DTSTAMP:20260419T162628Z
DTSTART:20260219T183000Z
DTEND:20260219T200000Z
URL:https://www.beroa.no/kalender/2026/02/19/bibellesning/3383/
CREATED:20260109T175907Z
LAST-MODIFIED:20260109T180046Z
SUMMARY:Bibellesning
DESCRIPTION:\n\nhttps://www.beroa.no/kalender/2026/02/19/bibellesning/3383/
END:VEVENT

END:VCALENDAR