BEGIN:VCALENDAR
VERSION:2.0
PRODID:-//mWEB//NONSGML mWEB//NB
URL:https://www.beroa.no/kalender/ics
X-WR-CALNAME:Berøa Langåker
REFRESH-INTERVAL;VALUE=DURATION:PT6H
X-PUBLISHED-TTL:PT6H    
CALSCALE:GREGORIAN
BEGIN:VEVENT
UID:beroa.no-3431
DTSTAMP:20260424T093833Z
DTSTART:20260423T173000Z
DTEND:20260423T190000Z
URL:https://www.beroa.no/kalender/2026/04/23/bibellesning-salme-73/3431/
CREATED:20260221T123302Z
LAST-MODIFIED:20260419T065335Z
SUMMARY:Bibellesning: Salme 73
DESCRIPTION:\n\nhttps://www.beroa.no/kalender/2026/04/23/bibellesning-salme-73/3431/
END:VEVENT

END:VCALENDAR