BEGIN:VCALENDAR
VERSION:2.0
PRODID:-//mWEB//NONSGML mWEB//NB
URL:https://www.beroa.no/kalender/ics
X-WR-CALNAME:Berøa Langåker
REFRESH-INTERVAL;VALUE=DURATION:PT6H
X-PUBLISHED-TTL:PT6H    
CALSCALE:GREGORIAN
BEGIN:VEVENT
UID:beroa.no-3432
DTSTAMP:20260420T100423Z
DTSTART:20260430T173000Z
DTEND:20260430T190000Z
URL:https://www.beroa.no/kalender/2026/04/30/bibellesning-salme-74/3432/
CREATED:20260221T123325Z
LAST-MODIFIED:20260419T065338Z
SUMMARY:Bibellesning: Salme 74
DESCRIPTION:\n\nhttps://www.beroa.no/kalender/2026/04/30/bibellesning-salme-74/3432/
END:VEVENT

END:VCALENDAR