BEGIN:VCALENDAR
VERSION:2.0
PRODID:-//mWEB//NONSGML mWEB//NB
URL:https://www.beroa.no/kalender/ics
X-WR-CALNAME:Berøa Langåker
REFRESH-INTERVAL;VALUE=DURATION:PT6H
X-PUBLISHED-TTL:PT6H    
CALSCALE:GREGORIAN
BEGIN:VEVENT
UID:beroa.no-3359
DTSTAMP:20260419T204821Z
DTSTART:20260827T220000Z
DTEND:20260828T215900Z
URL:https://www.beroa.no/kalender/2026/08/28/familien-losneslokken/3359/
CREATED:20251120T173120Z
LAST-MODIFIED:20251120T173122Z
SUMMARY:Familien Løsnesløkken
DESCRIPTION:\n\nhttps://www.beroa.no/kalender/2026/08/28/familien-losneslokken/3359/
X-MICROSOFT-CDO-ALLDAYEVENT:TRUE
END:VEVENT

END:VCALENDAR