BEGIN:VCALENDAR
VERSION:2.0
PRODID:-//mWEB//NONSGML mWEB//NB
URL:https://www.beroa.no/kalender/ics
X-WR-CALNAME:Berøa Langåker
REFRESH-INTERVAL;VALUE=DURATION:PT6H
X-PUBLISHED-TTL:PT6H    
CALSCALE:GREGORIAN
BEGIN:VEVENT
UID:beroa.no-3360
DTSTAMP:20260419T210750Z
DTSTART:20260828T220000Z
DTEND:20260829T215900Z
URL:https://www.beroa.no/kalender/2026/08/29/familien-losneslokken/3360/
CREATED:20251120T173138Z
LAST-MODIFIED:20251120T173139Z
SUMMARY:Familien Løsnesløkken
DESCRIPTION:\n\nhttps://www.beroa.no/kalender/2026/08/29/familien-losneslokken/3360/
X-MICROSOFT-CDO-ALLDAYEVENT:TRUE
END:VEVENT

END:VCALENDAR