BEGIN:VCALENDAR
VERSION:2.0
PRODID:-//mWEB//NONSGML mWEB//NB
URL:https://www.beroa.no/kalender/ics
X-WR-CALNAME:Berøa Langåker
REFRESH-INTERVAL;VALUE=DURATION:PT6H
X-PUBLISHED-TTL:PT6H    
CALSCALE:GREGORIAN
BEGIN:VEVENT
UID:beroa.no-3402
DTSTAMP:20260420T003810Z
DTSTART:20260915T220000Z
DTEND:20260916T215900Z
URL:https://www.beroa.no/kalender/2026/09/16/ledersamling/3402/
CREATED:20260112T175523Z
LAST-MODIFIED:20260112T175524Z
SUMMARY:Ledersamling
DESCRIPTION:\n\nhttps://www.beroa.no/kalender/2026/09/16/ledersamling/3402/
X-MICROSOFT-CDO-ALLDAYEVENT:TRUE
END:VEVENT

END:VCALENDAR