BEGIN:VCALENDAR
VERSION:2.0
PRODID:-//mWEB//NONSGML mWEB//NB
URL:https://www.beroa.no/kalender/ics
X-WR-CALNAME:Berøa Langåker
REFRESH-INTERVAL;VALUE=DURATION:PT6H
X-PUBLISHED-TTL:PT6H    
CALSCALE:GREGORIAN
BEGIN:VEVENT
UID:beroa.no-3368
DTSTAMP:20260424T081503Z
DTSTART:20261023T173000Z
DTEND:20261023T190000Z
URL:https://www.beroa.no/kalender/2026/10/23/mote-tale-av-johan-halsne/3368/
CREATED:20251129T132522Z
LAST-MODIFIED:20260406T101657Z
SUMMARY:Møte. Tale av Johan Halsne
DESCRIPTION:\n\nhttps://www.beroa.no/kalender/2026/10/23/mote-tale-av-johan-halsne/3368/
END:VEVENT

END:VCALENDAR