BEGIN:VCALENDAR
VERSION:2.0
PRODID:-//mWEB//NONSGML mWEB//NB
URL:https://www.beroa.no/kalender/ics
X-WR-CALNAME:Berøa Langåker
REFRESH-INTERVAL;VALUE=DURATION:PT6H
X-PUBLISHED-TTL:PT6H    
CALSCALE:GREGORIAN
BEGIN:VEVENT
UID:beroa.no-3369
DTSTAMP:20260424T084208Z
DTSTART:20261024T170000Z
DTEND:20261024T183000Z
URL:https://www.beroa.no/kalender/2026/10/24/mote-tale-av-johan-halsne/3369/
CREATED:20251129T132552Z
LAST-MODIFIED:20251129T132554Z
SUMMARY:Møte. Tale av Johan Halsne
DESCRIPTION:\n\nhttps://www.beroa.no/kalender/2026/10/24/mote-tale-av-johan-halsne/3369/
END:VEVENT

END:VCALENDAR