BEGIN:VCALENDAR
VERSION:2.0
PRODID:-//mWEB//NONSGML mWEB//NB
URL:https://www.beroa.no/kalender/ics
X-WR-CALNAME:Berøa Langåker
REFRESH-INTERVAL;VALUE=DURATION:PT6H
X-PUBLISHED-TTL:PT6H    
CALSCALE:GREGORIAN
BEGIN:VEVENT
UID:beroa.no-3370
DTSTAMP:20260424T082041Z
DTSTART:20261025T110000Z
DTEND:20261025T123000Z
URL:https://www.beroa.no/kalender/2026/10/25/mote-tale-av-johan-halsne/3370/
CREATED:20251129T132621Z
LAST-MODIFIED:20251129T132623Z
SUMMARY:Møte. Tale av Johan Halsne
DESCRIPTION:\n\nhttps://www.beroa.no/kalender/2026/10/25/mote-tale-av-johan-halsne/3370/
END:VEVENT

END:VCALENDAR