BEGIN:VCALENDAR
VERSION:2.0
PRODID:-//mWEB//NONSGML mWEB//NB
URL:https://www.beroa.no/kalender/ics
X-WR-CALNAME:Berøa Langåker
REFRESH-INTERVAL;VALUE=DURATION:PT6H
X-PUBLISHED-TTL:PT6H    
CALSCALE:GREGORIAN
BEGIN:VEVENT
UID:beroa.no-3362
DTSTAMP:20260424T093942Z
DTSTART:20261120T183000Z
DTEND:20261120T200000Z
URL:https://www.beroa.no/kalender/2026/11/20/mote-tale-av-erlend-hardang/3362/
CREATED:20251120T173352Z
LAST-MODIFIED:20260406T101658Z
SUMMARY:Møte. Tale av Erlend Hardang
DESCRIPTION:\n\nhttps://www.beroa.no/kalender/2026/11/20/mote-tale-av-erlend-hardang/3362/
END:VEVENT

END:VCALENDAR