BEGIN:VCALENDAR
VERSION:2.0
PRODID:-//mWEB//NONSGML mWEB//NB
URL:https://www.beroa.no/kalender/ics
X-WR-CALNAME:Berøa Langåker
REFRESH-INTERVAL;VALUE=DURATION:PT6H
X-PUBLISHED-TTL:PT6H    
CALSCALE:GREGORIAN
BEGIN:VEVENT
UID:beroa.no-3363
DTSTAMP:20260424T093238Z
DTSTART:20261121T180000Z
DTEND:20261121T193000Z
URL:https://www.beroa.no/kalender/2026/11/21/mote-tale-av-erlend-hardang/3363/
CREATED:20251120T173412Z
LAST-MODIFIED:20251120T173414Z
SUMMARY:Møte. Tale av Erlend Hardang
DESCRIPTION:\n\nhttps://www.beroa.no/kalender/2026/11/21/mote-tale-av-erlend-hardang/3363/
END:VEVENT

END:VCALENDAR