BEGIN:VCALENDAR
VERSION:2.0
PRODID:-//mWEB//NONSGML mWEB//NB
URL:https://www.beroa.no/kalender/ics
X-WR-CALNAME:Berøa Langåker
REFRESH-INTERVAL;VALUE=DURATION:PT6H
X-PUBLISHED-TTL:PT6H    
CALSCALE:GREGORIAN
BEGIN:VEVENT
UID:beroa.no-3364
DTSTAMP:20260424T094349Z
DTSTART:20261122T110000Z
DTEND:20261122T123000Z
URL:https://www.beroa.no/kalender/2026/11/22/mote-tale-av-erlend-hardang/3364/
CREATED:20251120T173510Z
LAST-MODIFIED:20251120T173512Z
SUMMARY:Møte. Tale av Erlend Hardang
DESCRIPTION:\n\nhttps://www.beroa.no/kalender/2026/11/22/mote-tale-av-erlend-hardang/3364/
END:VEVENT

END:VCALENDAR