BEGIN:VCALENDAR
VERSION:2.0
PRODID:-//mWEB//NONSGML mWEB//NB
URL:https://www.beroa.no/kalender/ics
X-WR-CALNAME:Berøa Langåker
REFRESH-INTERVAL;VALUE=DURATION:PT6H
X-PUBLISHED-TTL:PT6H    
CALSCALE:GREGORIAN
BEGIN:VEVENT
UID:beroa.no-3365
DTSTAMP:20260424T141444Z
DTSTART:20270219T183000Z
DTEND:20270219T200000Z
URL:https://www.beroa.no/kalender/2027/02/19/mote-tale-av-john-roger-nesje/3365/
CREATED:20251120T173632Z
LAST-MODIFIED:20251120T173633Z
SUMMARY:Møte. Tale av John Roger Nesje
DESCRIPTION:\n\nhttps://www.beroa.no/kalender/2027/02/19/mote-tale-av-john-roger-nesje/3365/
END:VEVENT

END:VCALENDAR