BEGIN:VCALENDAR
VERSION:2.0
PRODID:-//mWEB//NONSGML mWEB//NB
URL:https://www.beroa.no/kalender/ics
X-WR-CALNAME:Berøa Langåker
REFRESH-INTERVAL;VALUE=DURATION:PT6H
X-PUBLISHED-TTL:PT6H    
CALSCALE:GREGORIAN
BEGIN:VEVENT
UID:beroa.no-3366
DTSTAMP:20260424T141450Z
DTSTART:20270220T180000Z
DTEND:20270220T193000Z
URL:https://www.beroa.no/kalender/2027/02/20/mote-tale-av-john-roger-nesje/3366/
CREATED:20251120T173658Z
LAST-MODIFIED:20251120T173659Z
SUMMARY:Møte. Tale av John Roger Nesje
DESCRIPTION:\n\nhttps://www.beroa.no/kalender/2027/02/20/mote-tale-av-john-roger-nesje/3366/
END:VEVENT

END:VCALENDAR