BEGIN:VCALENDAR
VERSION:2.0
PRODID:-//mWEB//NONSGML mWEB//NB
URL:https://www.beroa.no/kalender/ics
X-WR-CALNAME:Berøa Langåker
REFRESH-INTERVAL;VALUE=DURATION:PT6H
X-PUBLISHED-TTL:PT6H    
CALSCALE:GREGORIAN
BEGIN:VEVENT
UID:beroa.no-3367
DTSTAMP:20260424T141609Z
DTSTART:20270221T110000Z
DTEND:20270221T123000Z
URL:https://www.beroa.no/kalender/2027/02/21/mote-tale-av-john-roger-nesje/3367/
CREATED:20251120T173723Z
LAST-MODIFIED:20251120T173725Z
SUMMARY:Møte. Tale av John Roger Nesje
DESCRIPTION:\n\nhttps://www.beroa.no/kalender/2027/02/21/mote-tale-av-john-roger-nesje/3367/
END:VEVENT

END:VCALENDAR